BEGIN:VCALENDAR
VERSION:2.0
PRODID:-//Squarespace Inc/Squarespace 6//v6//EN
BEGIN:VEVENT
UID:59fea25d24a6943fd0d75076@squarespace.com
DTSTAMP:20171106T063458Z
DTSTART:20171118T050000Z
DTEND:20171118T100000Z
SUMMARY:Dungog Contemporary Gallery Opening
GEO:-32.402824;151.757101
LOCATION:Dungog Contemporary\, 146 - 150 Dowling Street\, Dungog\, NSW\, 24
 20\, Australia
END:VEVENT
END:VCALENDAR
