BEGIN:VCALENDAR
VERSION:2.0
PRODID:-//Squarespace Inc/Squarespace 6//v6//EN
BEGIN:VEVENT
UID:5a5ac22af9619ad26aed67dc@squarespace.com
DTSTAMP:20180116T050720Z
DTSTART:20180120T040000Z
DTEND:20180120T060000Z
SUMMARY: Dungog Contemporary presents "Paradise"
END:VEVENT
END:VCALENDAR
