BEGIN:VCALENDAR
VERSION:2.0
PRODID:-//Squarespace Inc/Squarespace 6//v6//EN
BEGIN:VEVENT
UID:5bdfb1e92b6a28f99144e2a3@squarespace.com
DTSTAMP:20190129T091302Z
DTSTART:20181124T040000Z
DTEND:20190210T050000Z
SUMMARY:Dungog Contemporary Presents THE SUMMER SALON
GEO:-32.40287;151.757091
LOCATION:Dungog Contemporary\, 150 Dowling Street\, Dungog\, NSW\, 2420\, A
 ustralia
END:VEVENT
END:VCALENDAR
