BEGIN:VCALENDAR
VERSION:2.0
PRODID:-//Squarespace Inc/Squarespace 6//v6//EN
BEGIN:VEVENT
UID:5a7cf4bf53450a1218b01fad@squarespace.com
DTSTAMP:20180209T020138Z
DTSTART:20180217T040000Z
DTEND:20180217T060000Z
SUMMARY:Dungog Contemporary presents BROOD
END:VEVENT
END:VCALENDAR
