BEGIN:VCALENDAR
VERSION:2.0
PRODID:-//Squarespace Inc/Squarespace 6//v6//EN
BEGIN:VEVENT
UID:5a90bfa924a69489a7b8f553@squarespace.com
DTSTAMP:20180326T061439Z
DTSTART:20180317T040000Z
DTEND:20180317T083000Z
SUMMARY:Dungog Contemporary presents AMELIA VIVASH
END:VEVENT
END:VCALENDAR
