BEGIN:VCALENDAR
VERSION:2.0
PRODID:-//Squarespace Inc/Squarespace 6//v6//EN
BEGIN:VEVENT
UID:5ab88c4a6d2a730df0301ede@squarespace.com
DTSTAMP:20180615T030350Z
DTSTART:20180414T050000Z
DTEND:20180624T060000Z
SUMMARY:Dungog Contemporary presents FIONA BARRETT-CLARK
END:VEVENT
END:VCALENDAR
