BEGIN:VCALENDAR
VERSION:2.0
PRODID:-//Squarespace Inc/Squarespace 6//v6//EN
BEGIN:VEVENT
UID:5b63d9832b6a28ae73c3e6b6@squarespace.com
DTSTAMP:20180803T044736Z
DTSTART:20180825T050000Z
DTEND:20180923T060000Z
SUMMARY:Dungog Contemporary Presents - MADELEINE CRUISE
GEO:-32.403015;151.757005
LOCATION:Dungog Contemporary\, 146-150 Dowling Street\, Dungog NSW 2420\, A
 ustrailia
END:VEVENT
END:VCALENDAR
