BEGIN:VCALENDAR
VERSION:2.0
PRODID:-//Squarespace Inc/Squarespace 6//v6//EN
BEGIN:VEVENT
UID:5ba082f221c67c8e4f65a655@squarespace.com
DTSTAMP:20180918T065303Z
DTSTART:20180929T000000Z
DTEND:20181118T050000Z
SUMMARY:Dungog Contemporary Presents - "WASTELANDS" JO KATSIARIS
END:VEVENT
END:VCALENDAR
