BEGIN:VCALENDAR
VERSION:2.0
PRODID:-//Squarespace Inc/Squarespace 6//v6//EN
BEGIN:VEVENT
UID:5ba08e7e2b6a28392b57b8e1@squarespace.com
DTSTAMP:20180919T023942Z
DTSTART:20180929T000000Z
DTEND:20181118T050000Z
SUMMARY:Dungog Contemporary Presents - "LOOKING THROUGH A WINDOW" JANE FRAN
 CES REILLY
END:VEVENT
END:VCALENDAR
