BEGIN:VCALENDAR
VERSION:2.0
PRODID:-//Squarespace Inc/Squarespace 6//v6//EN
BEGIN:VEVENT
UID:5c51250a352f5387a7cdee0b@squarespace.com
DTSTAMP:20190130T232047Z
DTSTART:20190216T043000Z
DTEND:20190317T050000Z
SUMMARY:Dungog Contemporary Presents - "PLASTIQUE" from Catherine Cassidy
END:VEVENT
END:VCALENDAR
