BEGIN:VCALENDAR
VERSION:2.0
PRODID:-//Squarespace Inc/Squarespace 6//v6//EN
BEGIN:VEVENT
UID:5c511ac07ba7fc2553b91e49@squarespace.com
DTSTAMP:20190130T051706Z
DTSTART:20190216T043000Z
DTEND:20190317T050000Z
SUMMARY:Dungog Contemporary Presents - SANDRO NOCENTINI
END:VEVENT
END:VCALENDAR
