BEGIN:VCALENDAR
VERSION:2.0
PRODID:-//Squarespace Inc/Squarespace 6//v6//EN
BEGIN:VEVENT
UID:5c89ab2fec212dca0a29f3ad@squarespace.com
DTSTAMP:20190314T032227Z
DTSTART:20190323T043000Z
DTEND:20190421T060000Z
SUMMARY:Dungog Contemporary Presents - Ray Lawrence "A Drive in the Country
 "
END:VEVENT
END:VCALENDAR
