BEGIN:VCALENDAR
VERSION:2.0
PRODID:-//Squarespace Inc/Squarespace 6//v6//EN
BEGIN:VEVENT
UID:5cb95415e2c483cdc0ea7fec@squarespace.com
DTSTAMP:20190419T050943Z
DTSTART:20190427T050000Z
DTEND:20190526T060000Z
SUMMARY:Dungog Contemporary Presents - Katherine Rooney
END:VEVENT
END:VCALENDAR
