BEGIN:VCALENDAR
VERSION:2.0
PRODID:-//Squarespace Inc/Squarespace 6//v6//EN
BEGIN:VEVENT
UID:5b4574c52b6a28c31c5c6bbd@squarespace.com
DTSTAMP:20180719T064227Z
DTSTART:20180722T003000Z
DTEND:20180722T043000Z
SUMMARY:CREATURE CREATION
GEO:-32.402824;151.757101
LOCATION:DUNGOG CONTEMPORARY\, 146-150 Dowling Street\, Dungog\, NSW\, 2420
 \, Australia
END:VEVENT
END:VCALENDAR
