BEGIN:VCALENDAR
VERSION:2.0
PRODID:-//Squarespace Inc/Squarespace 6//v6//EN
BEGIN:VEVENT
UID:59b8a88bccc5c574395dbcd2@squarespace.com
DTSTAMP:20171106T063301Z
DTSTART:20170930T194500Z
DTEND:20171001T080000Z
SUMMARY:Dungog Contemporary presents Murrurundi Art Excursion
END:VEVENT
END:VCALENDAR
