BEGIN:VCALENDAR
VERSION:2.0
PRODID:-//Squarespace Inc/Squarespace 6//v6//EN
BEGIN:VEVENT
UID:5a262905e4966b9ccc02646b@squarespace.com
DTSTAMP:20171205T063918Z
DTSTART:20171209T040000Z
DTEND:20171209T060000Z
SUMMARY:Dungog Contemporary presents "Tea with Esther"
GEO:-32.402824;151.757101
LOCATION:Dungog Contemporary\, 146-150 Dowling Street\, Dungog\, NSW\, 2420
 \, Australia
END:VEVENT
END:VCALENDAR
